BEGIN:VCALENDAR
VERSION:2.0
PRODID:-//Mid-City Shotgun | Airbnb New Orleans - ECPv6.15.12.2//NONSGML v1.0//EN
CALSCALE:GREGORIAN
METHOD:PUBLISH
X-ORIGINAL-URL:https://midcityshotgun.com
X-WR-CALDESC:Events for Mid-City Shotgun | Airbnb New Orleans
REFRESH-INTERVAL;VALUE=DURATION:PT1H
X-Robots-Tag:noindex
X-PUBLISHED-TTL:PT1H
BEGIN:VTIMEZONE
TZID:UTC
BEGIN:STANDARD
TZOFFSETFROM:+0000
TZOFFSETTO:+0000
TZNAME:UTC
DTSTART:20230101T000000
END:STANDARD
END:VTIMEZONE
BEGIN:VEVENT
DTSTART;TZID=UTC:20241214T100000
DTEND;TZID=UTC:20241215T160000
DTSTAMP:20260422T102718
CREATED:20241204T210411Z
LAST-MODIFIED:20241204T210411Z
UID:157-1734170400-1734278400@midcityshotgun.com
SUMMARY:Holiday Home Tours - "Homes of the Garden District"
DESCRIPTION:Tour the interiors and grounds of several stunning homes in the historic Garden District. Festivities also include live music\, a boutique and more! \nFor almost 50 years the Preservation Resource Center’s Holiday Home tour has opened the doors to beautiful Garden District homes during the heart of the holiday season. The tour has grown over the years to include live musical performances\, a festive boutique and more! The Holiday Home Tour is held the second weekend in December and draws delighted attendees from across the country. \nThe Holiday Home Tour is one of the largest fundraisers for the Preservation Resource Center\, and money raised helps protect the historic architecture\, neighborhoods and cultural identity of New Orleans.
URL:https://midcityshotgun.com/event/holiday-home-tours-homes-of-the-garden-district/
CATEGORIES:Christmas,Historic Tours
ATTACH;FMTTYPE=image/jpeg:https://midcityshotgun.com/wp-content/uploads/2024/12/IMG_3690-2-1920x1280-1.jpg
END:VEVENT
END:VCALENDAR